BEGIN:VCALENDAR
VERSION:2.0
PRODID:-//CIC Montreal Section - ECPv6.15.20//NONSGML v1.0//EN
CALSCALE:GREGORIAN
METHOD:PUBLISH
X-WR-CALNAME:CIC Montreal Section
X-ORIGINAL-URL:https://cicmontrealsection.ca
X-WR-CALDESC:Events for CIC Montreal Section
REFRESH-INTERVAL;VALUE=DURATION:PT1H
X-Robots-Tag:noindex
X-PUBLISHED-TTL:PT1H
BEGIN:VTIMEZONE
TZID:UTC
BEGIN:STANDARD
TZOFFSETFROM:+0000
TZOFFSETTO:+0000
TZNAME:UTC
DTSTART:20250101T000000
END:STANDARD
END:VTIMEZONE
BEGIN:VEVENT
DTSTART;TZID=UTC:20260508T090000
DTEND;TZID=UTC:20260508T150000
DTSTAMP:20260424T000639
CREATED:20260417T195812Z
LAST-MODIFIED:20260420T165548Z
UID:1122-1778230800-1778252400@cicmontrealsection.ca
SUMMARY:CIC Montreal Annual Symposium 2026
DESCRIPTION:REGISTER HERE! 
URL:https://cicmontrealsection.ca/event/cic-montreal-annual-symposium-2026/
LOCATION:John Molson School of Business\, 1450 Guy St\, Montreal\, Quebec\, H3H 0A1\, Canada
CATEGORIES:Events
ATTACH;FMTTYPE=image/png:https://cicmontrealsection.ca/wp-content/uploads/2026/04/agm_poster_2026-2.png
END:VEVENT
END:VCALENDAR