BEGIN:VCALENDAR
VERSION:2.0
PRODID:-//CIC Montreal Section - ECPv6.15.20//NONSGML v1.0//EN
CALSCALE:GREGORIAN
METHOD:PUBLISH
X-WR-CALNAME:CIC Montreal Section
X-ORIGINAL-URL:https://cicmontrealsection.ca
X-WR-CALDESC:Events for CIC Montreal Section
REFRESH-INTERVAL;VALUE=DURATION:PT1H
X-Robots-Tag:noindex
X-PUBLISHED-TTL:PT1H
BEGIN:VTIMEZONE
TZID:UTC
BEGIN:STANDARD
TZOFFSETFROM:+0000
TZOFFSETTO:+0000
TZNAME:UTC
DTSTART:20230101T000000
END:STANDARD
END:VTIMEZONE
BEGIN:VTIMEZONE
TZID:America/Toronto
BEGIN:DAYLIGHT
TZOFFSETFROM:-0500
TZOFFSETTO:-0400
TZNAME:EDT
DTSTART:20240310T070000
END:DAYLIGHT
BEGIN:STANDARD
TZOFFSETFROM:-0400
TZOFFSETTO:-0500
TZNAME:EST
DTSTART:20241103T060000
END:STANDARD
BEGIN:DAYLIGHT
TZOFFSETFROM:-0500
TZOFFSETTO:-0400
TZNAME:EDT
DTSTART:20250309T070000
END:DAYLIGHT
BEGIN:STANDARD
TZOFFSETFROM:-0400
TZOFFSETTO:-0500
TZNAME:EST
DTSTART:20251102T060000
END:STANDARD
BEGIN:DAYLIGHT
TZOFFSETFROM:-0500
TZOFFSETTO:-0400
TZNAME:EDT
DTSTART:20260308T070000
END:DAYLIGHT
BEGIN:STANDARD
TZOFFSETFROM:-0400
TZOFFSETTO:-0500
TZNAME:EST
DTSTART:20261101T060000
END:STANDARD
END:VTIMEZONE
BEGIN:VEVENT
DTSTART;TZID=UTC:20251126T190000
DTEND;TZID=UTC:20251126T220000
DTSTAMP:20260424T001201
CREATED:20251117T194804Z
LAST-MODIFIED:20251121T155729Z
UID:1110-1764183600-1764194400@cicmontrealsection.ca
SUMMARY:Chemistry Trivia Night
DESCRIPTION:This event is now first come\, first serve instead of by RSVP. We apologize for any inconvenience!
URL:https://cicmontrealsection.ca/event/chemistry-trivia-night-3/
LOCATION:Lord William Pub\, 265 Rue des Seigneurs\, Montreal\, Quebec\, H3J 0B3\, Canada
CATEGORIES:Events
ATTACH;FMTTYPE=image/png:https://cicmontrealsection.ca/wp-content/uploads/2025/11/trivia_event_post.png
END:VEVENT
BEGIN:VEVENT
DTSTART;TZID=America/Toronto:20250526T090000
DTEND;TZID=America/Toronto:20250526T150000
DTSTAMP:20260424T001201
CREATED:20250325T164521Z
LAST-MODIFIED:20250415T191807Z
UID:997-1748250000-1748271600@cicmontrealsection.ca
SUMMARY:CIC Montreal Annual Symposium 2025
DESCRIPTION:Register now!
URL:https://cicmontrealsection.ca/event/cic-montreal-annual-symposium-2025/
LOCATION:John Molson School of Business\, 1450 Guy St\, Montreal\, Quebec\, H3H 0A1\, Canada
CATEGORIES:Events
ATTACH;FMTTYPE=image/png:https://cicmontrealsection.ca/wp-content/uploads/2025/03/Banner-1020-x-220-px-33.png
END:VEVENT
BEGIN:VEVENT
DTSTART;TZID=UTC:20250228T173000
DTEND;TZID=UTC:20250228T200000
DTSTAMP:20260424T001201
CREATED:20250214T171155Z
LAST-MODIFIED:20250219T164016Z
UID:977-1740763800-1740772800@cicmontrealsection.ca
SUMMARY:Batteries & Beers
DESCRIPTION:
URL:https://cicmontrealsection.ca/event/batteries-beers-3/
LOCATION:Ye Olde Orchard Pub\, 1189 Rue de la Montagne\, Montreal\, QC\, H3G 1Z2\, Canada
CATEGORIES:Events
ATTACH;FMTTYPE=image/png:https://cicmontrealsection.ca/wp-content/uploads/2025/02/CIC-Batteries-and-beer-poster-4.png
END:VEVENT
BEGIN:VEVENT
DTSTART;TZID=UTC:20241106T190000
DTEND;TZID=UTC:20241106T220000
DTSTAMP:20260424T001201
CREATED:20241021T215754Z
LAST-MODIFIED:20250210T030902Z
UID:812-1730919600-1730930400@cicmontrealsection.ca
SUMMARY:Chemistry Trivia Night
DESCRIPTION:
URL:https://cicmontrealsection.ca/event/chemistry-trivia-night-4/
LOCATION:Ye Olde Orchard Pub\, 1189 Rue de la Montagne\, Montreal\, QC\, H3G 1Z2\, Canada
CATEGORIES:Events
ATTACH;FMTTYPE=image/png:https://cicmontrealsection.ca/wp-content/uploads/2024/10/CHEMISTRY-TRIVIA-NIGHT-2-e1729545413370.png
END:VEVENT
BEGIN:VEVENT
DTSTART;TZID=UTC:20240522T080000
DTEND;TZID=UTC:20240522T170000
DTSTAMP:20260424T001201
CREATED:20240704T225713Z
LAST-MODIFIED:20240704T225847Z
UID:692-1716364800-1716397200@cicmontrealsection.ca
SUMMARY:CIC Montreal Annual Symposium 2024
DESCRIPTION:
URL:https://cicmontrealsection.ca/event/2024-annual-symposium/
LOCATION:John Molson School of Business\, 1450 Guy St\, Montreal\, Quebec\, H3H 0A1\, Canada
END:VEVENT
END:VCALENDAR