BEGIN:VCALENDAR
VERSION:2.0
PRODID:-//CIC Montreal Section - ECPv6.15.20//NONSGML v1.0//EN
CALSCALE:GREGORIAN
METHOD:PUBLISH
X-WR-CALNAME:CIC Montreal Section
X-ORIGINAL-URL:https://cicmontrealsection.ca
X-WR-CALDESC:Events for CIC Montreal Section
REFRESH-INTERVAL;VALUE=DURATION:PT1H
X-Robots-Tag:noindex
X-PUBLISHED-TTL:PT1H
BEGIN:VTIMEZONE
TZID:UTC
BEGIN:STANDARD
TZOFFSETFROM:+0000
TZOFFSETTO:+0000
TZNAME:UTC
DTSTART:20230101T000000
END:STANDARD
END:VTIMEZONE
BEGIN:VEVENT
DTSTART;TZID=UTC:20241106T190000
DTEND;TZID=UTC:20241106T220000
DTSTAMP:20260425T144351
CREATED:20241021T215754Z
LAST-MODIFIED:20250210T030902Z
UID:812-1730919600-1730930400@cicmontrealsection.ca
SUMMARY:Chemistry Trivia Night
DESCRIPTION:
URL:https://cicmontrealsection.ca/event/chemistry-trivia-night-4/
LOCATION:Ye Olde Orchard Pub\, 1189 Rue de la Montagne\, Montreal\, QC\, H3G 1Z2\, Canada
CATEGORIES:Events
ATTACH;FMTTYPE=image/png:https://cicmontrealsection.ca/wp-content/uploads/2024/10/CHEMISTRY-TRIVIA-NIGHT-2-e1729545413370.png
END:VEVENT
BEGIN:VEVENT
DTSTART;TZID=UTC:20240522T080000
DTEND;TZID=UTC:20240522T170000
DTSTAMP:20260425T144351
CREATED:20240704T225713Z
LAST-MODIFIED:20240704T225847Z
UID:692-1716364800-1716397200@cicmontrealsection.ca
SUMMARY:CIC Montreal Annual Symposium 2024
DESCRIPTION:
URL:https://cicmontrealsection.ca/event/2024-annual-symposium/
LOCATION:John Molson School of Business\, 1450 Guy St\, Montreal\, Quebec\, H3H 0A1\, Canada
END:VEVENT
END:VCALENDAR